Workbook

Sheet 大会登録票
B1: 第53回全国ミニバスケットボール大会福井県予選会
B3: チーム名 | K3: のセルにご記入下さい | M3: ※1）パンフに使用しますので、書式の変更は行わないでください。
M4: ※2）個人IDにつきましては、下3桁のみ（例えばＩＤ：123456789であれば、789)をご記入ください。
D6: 氏名 | F6: ライセンス | H6: ID(下3桁） | M6: ※3）氏名の入力時は、姓名の間にスペースをいれてください。
B7: コーチ | O7: JBA公認Ｂ級コーチ | P7: JBA公認C級コーチ | Q7: JBA公認D級コーチ | R7: JBA公認E1級コーチ | S7: JBA公認E2級コーチ
B8: Aコーチ | O8: JBA公認Ａ級審判員 | P8: JBA公認Ｂ級審判員 | Q8: JBA公認Ｃ級審判員 | R8: JBA公認Ｄ級審判員 | S8: JBA公認E級審判員
B9: マネージャー
B10: チーム関係者
B11: 主体校 | J11: チーム感染対策責任者（コーチ or Aコーチ） | M11: ※4）新型コロナウィルス感染症感染防止対策以外には、使用しません。
D12: 氏名 | F12: ライセンス | H12: ID(下3桁）
B13: 帯同審判１ | J13: 名前
B14: 帯同審判２
B15: MC１ | J15: 緊急連絡先TEL
B16: MC２
B18: No | C18: 選手名 | E18: 学年 | F18: 身長 (cm) | G18: 所属校 | H18: ID(下3桁） | J18: 大会パンフレット注文（500円/部） | R18: ◯ | S18: △ | T18: ×
B19: 4 | J19: チーム名 | L19: 男女 | M19: 部数 | N19: 金額 | R19: 男子 | S19: 女子 | T19: 選択してください
B20: 5 | J20: =D3 -> 0 | L20: =H3 -> 0 | N20: =M20*500 -> 0 | R20: 6 | S20: 5 | T20: 4 | U20: 3 | V20: 2 | W20: 1
B21: 6 | J21: ※1）チームに3部は配布いたします。
B22: 7
B23: 8
B24: 9
B25: 10 | L25: 上記内容にて、第２回福井県ミニバスケットボール後期大会に参加登録をいたします。 | R25: 希望します
B26: 11 | R26: 希望しません
B27: 12 | M27: 日 付 | N27: 令和 ３年 12月 日
B28: 13
B29: 14 | M29: チーム名 | N29: =D3 -> 0 | P29: =H3 -> 0
B30: 15
B31: 16 | M31: 申込責任者
B32: 17
B33: 18

Sheet 審判・MC都合表
A1: 〇審判都合表
A2: No | B2: 氏 名 | C2: ライセンス | D2: 1/15(土) | F2: 割当 | G2: 1/16(日) | I2: 割当 | J2: 1/22(土) | L2: 割当
D3: 午前 | E3: 午後 | F3: 優先順位 | G3: 午前 | H3: 午後 | I3: 優先順位 | J3: 午前 | K3: 午後 | L3: 優先順位
A4: 1 | F4: 選択してください | I4: 選択してください | L4: 選択してください
A5: 2 | F5: 選択してください | I5: 選択してください | L5: 選択してください
A6: 3 | F6: 選択してください | I6: 選択してください | L6: 選択してください
A7: 4 | D7: 選択してください | E7: 選択してください | F7: 選択してください | G7: 選択してください | H7: 選択してください | I7: 選択してください | J7: 選択してください | K7: 選択してください | L7: 選択してください
A8: 5 | D8: 選択してください | E8: 選択してください | F8: 選択してください | G8: 選択してください | H8: 選択してください | I8: 選択してください | J8: 選択してください | K8: 選択してください | L8: 選択してください
A9: 〇MC都合表
A10: 1 | F10: 選択してください | I10: 選択してください | L10: 選択してください
A11: 2 | F11: 選択してください | I11: 選択してください | L11: 選択してください
A12: 3 | F12: 選択してください | I12: 選択してください | L12: 選択してください
A13: 4 | D13: 選択してください | E13: 選択してください | F13: 選択してください | G13: 選択してください | H13: 選択してください | I13: 選択してください | J13: 選択してください | K13: 選択してください | L13: 選択してください
A14: 5 | D14: 選択してください | E14: 選択してください | F14: 選択してください | G14: 選択してください | H14: 選択してください | I14: 選択してください | J14: 選択してください | K14: 選択してください | L14: 選択してください
B15: 例 宇田川 貴生 | C15: B | D15: × | E15: ○ | F15: 3 | G15: × | H15: ○ | I15: 選択してください | J15: × | K15: × | L15: 3
B16: 例 加藤 誉樹 | C16: C | D16: ○ | E16: × | F16: 2 | G16: ○ | H16: × | I16: 2 | J16: ○ | K16: ○ | L16: 1
B17: 例 須黒 祥子 | C17: E | D17: ○ | E17: × | F17: 1 | G17: ○ | H17: × | I17: 1 | J17: ○ | K17: ○ | L17: 2
B19: * 同じ日時に複数の方が参加可能な場合、割当の優先順位を必ず選択してください。

Sheet 入場者名簿1（当日印刷持参用）
B1: 令和4年1月 日
B2: 第53回全国ミニバスケットボール大会福井県予選会入場者名簿①
B3: チーム名 | D3: =大会登録票!D3 -> 0 | F3: =大会登録票!H3 -> 0
B5: 役職 | D5: 氏名 | F5: 緊急連絡先 | G5: チェック
B6: チーム感染対策責任者 | D6: =大会登録票!K13 -> 0 | F6: =大会登録票!K15 -> 0
B7: コーチ | D7: =IF(大会登録票!D7="","",大会登録票!D7)
B8: Aコーチ | D8: =IF(大会登録票!D8="","",大会登録票!D8)
B9: マネージャー | D9: =IF(大会登録票!D9="","",大会登録票!D9)
B10: チーム関係者 | D10: =IF(大会登録票!D10="","",大会登録票!D10)
B11: 帯同審判１ | D11: =IF(大会登録票!D13="","",大会登録票!D13)
B12: 帯同審判２ | D12: =IF(大会登録票!D14="","",大会登録票!D14)
B13: MC１ | D13: =IF(大会登録票!D15="","",大会登録票!D15)
B14: MC２ | D14: =IF(大会登録票!D16="","",大会登録票!D16)
B15: 選手 No | C15: 選手名 | E15: 保護者名 | F15: 緊急連絡先 | G15: チェック
B16: 4 | C16: =IF(大会登録票!C19="","",大会登録票!C19)
B17: 5 | C17: =IF(大会登録票!C20="","",大会登録票!C20)
B18: 6 | C18: =IF(大会登録票!C21="","",大会登録票!C21)
B19: 7 | C19: =IF(大会登録票!C22="","",大会登録票!C22)
B20: 8 | C20: =IF(大会登録票!C23="","",大会登録票!C23)
B21: 9 | C21: =IF(大会登録票!C24="","",大会登録票!C24)
B22: 10 | C22: =IF(大会登録票!C25="","",大会登録票!C25)
B23: 11 | C23: =IF(大会登録票!C26="","",大会登録票!C26)
B24: 12 | C24: =IF(大会登録票!C27="","",大会登録票!C27)
B25: 13 | C25: =IF(大会登録票!C28="","",大会登録票!C28)
B26: 14 | C26: =IF(大会登録票!C29="","",大会登録票!C29)
B27: 15 | C27: =IF(大会登録票!C30="","",大会登録票!C30)
... B30: 18 | C30: =IF(大会登録票!C33="","",大会登録票!C33)
B31: ※1)新型コロナウィルス感染症による感染防止対策以外には、使用しません。 ※2)競技会場入場者チェックシートをチーム毎にまとめて一番上にこの名簿を添付して提出してください。 ※3)大会期間中、毎日、各会場で提出をお願いします。 ※4)各会場施設への入場はこの名簿に記載の方のみになります。御了承下さい。

Sheet 入場者名簿2（当日印刷持参用）
B1: 令和4年1月 日
B2: 第53回全国ミニバスケットボール大会福井県予選会入場者名簿②
B3: チーム名 | D3: =大会登録票!D3 -> 0 | F3: =大会登録票!H3 -> 0
B5: 入場者 | C5: 入場者氏名 | F5: 緊急連絡先 | G5: チェック
B6: 1 | C6: =IF(大会登録票!C19="","",大会登録票!C19)
B7: 2 | C7: =IF(大会登録票!C20="","",大会登録票!C20)
B8: 3 | C8: =IF(大会登録票!C21="","",大会登録票!C21)
B9: 4 | C9: =IF(大会登録票!C22="","",大会登録票!C22)
B10: 5 | C10: =IF(大会登録票!C23="","",大会登録票!C23)
B11: 6 | C11: =IF(大会登録票!C24="","",大会登録票!C24)
B12: 7 | C12: =IF(大会登録票!C25="","",大会登録票!C25)
B13: 8 | C13: =IF(大会登録票!C26="","",大会登録票!C26)
B14: 9 | C14: =IF(大会登録票!C27="","",大会登録票!C27)
B15: 10 | C15: =IF(大会登録票!C28="","",大会登録票!C28)
B16: 11 | C16: =IF(大会登録票!C29="","",大会登録票!C29)
B17: 12 | C17: =IF(大会登録票!C30="","",大会登録票!C30)
... B20: 15 | C20: =IF(大会登録票!C33="","",大会登録票!C33)
B21: ※1)新型コロナウィルス感染症による感染防止対策以外には、使用しません。 ※2)競技会場入場者チェックシートをチーム毎にまとめて一番上にこの名簿を添付して提出してください。 ※3)大会期間中、毎日、各会場で提出をお願いします。 ※4)各会場施設への入場はこの名簿に記載の方のみになります。御了承下さい。
